BEGIN:VCALENDAR
VERSION:2.0
PRODID:-//Knjižnica A. T. Linharta Radovljica - ECPv6.15.20//NONSGML v1.0//EN
CALSCALE:GREGORIAN
METHOD:PUBLISH
X-WR-CALNAME:Knjižnica A. T. Linharta Radovljica
X-ORIGINAL-URL:https://www.knjiznica-radovljica.si
X-WR-CALDESC:Dogodki za Knjižnica A. T. Linharta Radovljica
REFRESH-INTERVAL;VALUE=DURATION:PT1H
X-Robots-Tag:noindex
X-PUBLISHED-TTL:PT1H
BEGIN:VTIMEZONE
TZID:Europe/Ljubljana
BEGIN:DAYLIGHT
TZOFFSETFROM:+0100
TZOFFSETTO:+0200
TZNAME:CEST
DTSTART:20250330T010000
END:DAYLIGHT
BEGIN:STANDARD
TZOFFSETFROM:+0200
TZOFFSETTO:+0100
TZNAME:CET
DTSTART:20251026T010000
END:STANDARD
BEGIN:DAYLIGHT
TZOFFSETFROM:+0100
TZOFFSETTO:+0200
TZNAME:CEST
DTSTART:20260329T010000
END:DAYLIGHT
BEGIN:STANDARD
TZOFFSETFROM:+0200
TZOFFSETTO:+0100
TZNAME:CET
DTSTART:20261025T010000
END:STANDARD
BEGIN:DAYLIGHT
TZOFFSETFROM:+0100
TZOFFSETTO:+0200
TZNAME:CEST
DTSTART:20270328T010000
END:DAYLIGHT
BEGIN:STANDARD
TZOFFSETFROM:+0200
TZOFFSETTO:+0100
TZNAME:CET
DTSTART:20271031T010000
END:STANDARD
END:VTIMEZONE
BEGIN:VEVENT
DTSTART;TZID=Europe/Ljubljana:20260423T170000
DTEND;TZID=Europe/Ljubljana:20260423T180000
DTSTAMP:20260423T014833
CREATED:20260318T100822Z
LAST-MODIFIED:20260318T100822Z
UID:106192-1776963600-1776967200@www.knjiznica-radovljica.si
SUMMARY:ROŽNATO
DESCRIPTION:Pod okriljem Združenja Europa Donna — Skupina Zgornja Gorenjska bomo izvajali ustvarjalne delavnice\, namenjene pridobivanju novih znanj in spretnosti. Materialom\, ki so naravi prijazni in pogosto že uporabljeni\, bomo z novo obliko dodali uporabnost in primernost za izjemno darilo. Predhodna znanja niso potrebna. \n V aprilu bomo ustvarjali predmete za okrasitev vrta.
URL:https://www.knjiznica-radovljica.si/events/roznato-27/
LOCATION:Knjižnica Bohinjska Bistrica\, Trg svobode 3a\, Bohinjska Bistrica\, 4264
ATTACH;FMTTYPE=image/jpeg:https://www.knjiznica-radovljica.si/wp-content/uploads/2026/03/Roznato.jpg
END:VEVENT
BEGIN:VEVENT
DTSTART;TZID=Europe/Ljubljana:20260423T170000
DTEND;TZID=Europe/Ljubljana:20260423T180000
DTSTAMP:20260423T014833
CREATED:20260318T104247Z
LAST-MODIFIED:20260410T123729Z
UID:106225-1776963600-1776967200@www.knjiznica-radovljica.si
SUMMARY:PRAVLJIČNA URICA (Radovljica)
DESCRIPTION:Vsaka pravljica odpira vrata v nov svet\, kjer se srečujejo čarobna bitja in junaki\, ki premagujejo ovire. Na pravljični urici v družbi knjižničarke Katarine se bodo otroci potopili v svet domišljije in pustolovščin.
URL:https://www.knjiznica-radovljica.si/events/pravljicna-urica-radovljica/
LOCATION:Knjižnica Radovljica pravljična soba\, Vurnikov trg 1\, Radovljica\, 4240\, Slovenija
ATTACH;FMTTYPE=image/jpeg:https://www.knjiznica-radovljica.si/wp-content/uploads/2026/03/Pravljicnaurica.jpg
END:VEVENT
BEGIN:VEVENT
DTSTART;TZID=Europe/Ljubljana:20260423T190000
DTEND;TZID=Europe/Ljubljana:20260423T203000
DTSTAMP:20260423T014833
CREATED:20260318T100440Z
LAST-MODIFIED:20260318T100440Z
UID:106187-1776970800-1776976200@www.knjiznica-radovljica.si
SUMMARY:CELINSKA ANTARKTIKA
DESCRIPTION:Izidor Furman je popotnik\, ki ogromno potuje. Ena od njegovih destinacij je bila tudi celinska Antarktika\, kjer se je povzpel na najvišjo goro “Mount Vinson”. Po Wikipediji sodeč je 5. Slovenec\, ki je osvojil to goro — poleg znanih veljakov\, kot sta Viki Grošelj in Davo Karničar.
URL:https://www.knjiznica-radovljica.si/events/celinska-antarktika/
LOCATION:Knjižnica Blaža Kumerdeja Bled\, Ulica Jule Vovk Molnar 2\, Bled\, 4260
ATTACH;FMTTYPE=image/jpeg:https://www.knjiznica-radovljica.si/wp-content/uploads/2026/03/celinska-antarktika.jpg
END:VEVENT
END:VCALENDAR